BEGIN:VCALENDAR
VERSION:2.0
PRODID:-//VRSA - ECPv6.15.7//NONSGML v1.0//EN
CALSCALE:GREGORIAN
METHOD:PUBLISH
X-WR-CALNAME:VRSA
X-ORIGINAL-URL:https://www.vrsa.us
X-WR-CALDESC:Events for VRSA
REFRESH-INTERVAL;VALUE=DURATION:PT1H
X-Robots-Tag:noindex
X-PUBLISHED-TTL:PT1H
BEGIN:VTIMEZONE
TZID:America/New_York
BEGIN:DAYLIGHT
TZOFFSETFROM:-0500
TZOFFSETTO:-0400
TZNAME:EDT
DTSTART:20250309T070000
END:DAYLIGHT
BEGIN:STANDARD
TZOFFSETFROM:-0400
TZOFFSETTO:-0500
TZNAME:EST
DTSTART:20251102T060000
END:STANDARD
BEGIN:DAYLIGHT
TZOFFSETFROM:-0500
TZOFFSETTO:-0400
TZNAME:EDT
DTSTART:20260308T070000
END:DAYLIGHT
BEGIN:STANDARD
TZOFFSETFROM:-0400
TZOFFSETTO:-0500
TZNAME:EST
DTSTART:20261101T060000
END:STANDARD
BEGIN:DAYLIGHT
TZOFFSETFROM:-0500
TZOFFSETTO:-0400
TZNAME:EDT
DTSTART:20270314T070000
END:DAYLIGHT
BEGIN:STANDARD
TZOFFSETFROM:-0400
TZOFFSETTO:-0500
TZNAME:EST
DTSTART:20271107T060000
END:STANDARD
END:VTIMEZONE
BEGIN:VEVENT
DTSTART;TZID=America/New_York:20260624T130000
DTEND;TZID=America/New_York:20260624T140000
DTSTAMP:20260422T190155
CREATED:20260422T194612Z
LAST-MODIFIED:20260422T194612Z
UID:16555-1782306000-1782309600@www.vrsa.us
SUMMARY:Best Practices: Recruiting\, Interviewing & Hiring
DESCRIPTION:This virtual presentation will cover best practices for legally compliant recruiting\, interviewing\, and hiring.
URL:https://www.vrsa.us/event/best-practices-recruiting-interviewing-hiring/
ATTACH;FMTTYPE=image/png:https://www.vrsa.us/wp-content/uploads/2025/12/HRCI_ApprovedRecertificationProviderSeal_2026.png
ORGANIZER;CN="Jackie Stauffer%2C Administrative Specialist":MAILTO:jstauffer@vmlins.org
END:VEVENT
END:VCALENDAR